BEGIN:VCALENDAR
VERSION:2.0
PRODID:-//Stream and Sea - ECPv6.15.0//NONSGML v1.0//EN
CALSCALE:GREGORIAN
METHOD:PUBLISH
X-ORIGINAL-URL:https://streamandsea.com
X-WR-CALDESC:Events for Stream and Sea
REFRESH-INTERVAL;VALUE=DURATION:PT1H
X-Robots-Tag:noindex
X-PUBLISHED-TTL:PT1H
BEGIN:VTIMEZONE
TZID:UTC
BEGIN:STANDARD
TZOFFSETFROM:+0000
TZOFFSETTO:+0000
TZNAME:UTC
DTSTART:20230101T000000
END:STANDARD
END:VTIMEZONE
BEGIN:VEVENT
DTSTART;VALUE=DATE:20230815
DTEND;VALUE=DATE:20230819
DTSTAMP:20260425T025836
CREATED:20230526T202426Z
LAST-MODIFIED:20230526T202426Z
UID:8455-1692057600-1692403199@streamandsea.com
SUMMARY:Three Falls Fly Fishing Clinic
DESCRIPTION:Our next fly fishing clinic at this incredible venue runs from 15-18 August. The purpose of this clinic is for you to learn everything about fly fishing (not only casting)\, so that you can go out and catch fish on your own. Throughout the clinic\, we’ll cover the following topics: \n\nThe five fly casting essentials\nThe typical fly fishing setup and different configurations for different applications\nFly selection\nKnots and leader construction\nDifferent types of retrieves\nFighting and landing fish\nGood catch and release principles\n\nIf you’d like more information about the Three Falls Fly Fishing Clinic\, please visit our dedicated page which contains more information. Alternatively\, please reach out to us via our contact page.
URL:https://streamandsea.com/event/three-falls-fly-fishing-clinic-2/
LOCATION:Western Cape
CATEGORIES:Introduction to Fly Fishing
ATTACH;FMTTYPE=image/webp:https://streamandsea.com/wp-content/uploads/2023/04/Three-falls-4-scaled.webp
ORGANIZER;CN="Stream and Sea":MAILTO:streamandseafly@gmail.com
END:VEVENT
END:VCALENDAR