BEGIN:VCALENDAR
VERSION:2.0
PRODID:-//Stream and Sea - ECPv6.15.0//NONSGML v1.0//EN
CALSCALE:GREGORIAN
METHOD:PUBLISH
X-WR-CALNAME:Stream and Sea
X-ORIGINAL-URL:https://streamandsea.com
X-WR-CALDESC:Events for Stream and Sea
REFRESH-INTERVAL;VALUE=DURATION:PT1H
X-Robots-Tag:noindex
X-PUBLISHED-TTL:PT1H
BEGIN:VTIMEZONE
TZID:UTC
BEGIN:STANDARD
TZOFFSETFROM:+0000
TZOFFSETTO:+0000
TZNAME:UTC
DTSTART:20220101T000000
END:STANDARD
END:VTIMEZONE
BEGIN:VEVENT
DTSTART;TZID=UTC:20221029T090000
DTEND;TZID=UTC:20221029T130000
DTSTAMP:20260425T171301
CREATED:20220829T123955Z
LAST-MODIFIED:20220829T135228Z
UID:5233-1667034000-1667048400@streamandsea.com
SUMMARY:An Introduction to Fly Fishing - 29 October 2022
DESCRIPTION:For most people\, fly fishing seems like a strange pastime that old men in tweed jackets do where they swing a line over the water endlessly. This can’t be further from the truth as fly fishing has a young and vibrant community and it is one of the best ways to immerse yourself in nature. Yes\, it is a form of fishing\, and catching fish is mostly what it’s about\, but the more time you spend fly fishing the more you’ll realise it’s actually a lifestyle-orientated activity. \nThis introductory course will teach you the basics behind fly fishing and fly casting so that you have a better understanding of what it’s about. \nWhat the course will cover: \n\nWhat is the purpose of fly fishing and how is it different from other forms of fishing?\nWhat is a basic fly fishing setup?\nYou’ll learn some basic fly casting techniques\n\nBecause this course serves as an introduction\, we will supply all the gear needed. \nThis course is limited to 6 students.
URL:https://streamandsea.com/event/an-introduction-to-fly-fishing-29-october-2022/
LOCATION:Somerset College\, Bredell Road\, Somerset West\, Western Cape\, 7130\, South Africa
CATEGORIES:Introduction to Fly Fishing
ATTACH;FMTTYPE=image/jpeg:https://streamandsea.com/wp-content/uploads/2022/08/SS_Fly-casting_Website_Introduction-v2-scaled.jpg
ORGANIZER;CN="Stream and Sea":MAILTO:streamandseafly@gmail.com
END:VEVENT
END:VCALENDAR